BEGIN:VCALENDAR
VERSION:2.0
PRODID:DPCALENDAR
CALSCALE:GREGORIAN
BEGIN:VTIMEZONE
TZID:UTC
X-MICROSOFT-CDO-TZID:0
END:VTIMEZONE
X-WR-TIMEZONE:UTC
BEGIN:VEVENT
DTSTART;TZID=UTC:20211211T170000
DTEND;TZID=UTC:20211211T210000
UID:EA9FFDFF-3F9F-4B06-B077-CA7A214C5875
SUMMARY:Weihnachtsfeier
DTSTAMP:20210711T204105Z
DESCRIPTION:Weihnachtsfeier im Prinzregent Garten in PasingBeginn: 17:00 Uhr
X-ALT-DESC;FMTTYPE=text/html:<p>Weihnachtsfeier im Prinzregent Garten in Pasing<br />Beginn: 17:00 Uhr</p>
X-ACCESS:1
X-HITS:1084
X-URL:
X-COLOR:FF0033
END:VEVENT
END:VCALENDAR