BEGIN:VCALENDAR
VERSION:2.0
PRODID:DPCALENDAR
CALSCALE:GREGORIAN
BEGIN:VTIMEZONE
TZID:UTC
X-MICROSOFT-CDO-TZID:0
END:VTIMEZONE
X-WR-TIMEZONE:UTC
BEGIN:VEVENT
DTSTART;VALUE=DATE:20220717
DTEND;VALUE=DATE:20220718
UID:86097AB2-5C86-4622-BC63-0EC18A539493
SUMMARY:Wir fahren mit dem Zug (9€-Ticket) nach Straubing
DTSTAMP:20220608T195840Z
DESCRIPTION:Anmeldung bis 01.7.22 bei\NToni Zellner 08142/52866\Nder organisiert eine Stadtführung.
X-ALT-DESC;FMTTYPE=text/html:<p>Anmeldung bis 01.7.22 bei</p><p>Toni Zellner<br /> 08142/52866</p><p>der organisiert eine Stadtführung.</p>
X-ACCESS:1
X-HITS:779
X-URL:
X-COLOR:3366CC
END:VEVENT
END:VCALENDAR