BEGIN:VCALENDAR
VERSION:2.0
PRODID:DPCALENDAR
CALSCALE:GREGORIAN
BEGIN:VTIMEZONE
TZID:UTC
X-MICROSOFT-CDO-TZID:0
END:VTIMEZONE
X-WR-TIMEZONE:UTC
BEGIN:VEVENT
DTSTART;VALUE=DATE:20230521
DTEND;VALUE=DATE:20230522
UID:4152FC46-83B1-4C17-B802-2E6E741B017D
SUMMARY:Wanderung im Tal der Günz
DTSTAMP:20230115T191334Z
DESCRIPTION:
X-ALT-DESC;FMTTYPE=text/html:
X-ACCESS:1
X-HITS:796
X-URL:
X-COLOR:3366CC
END:VEVENT
END:VCALENDAR