BEGIN:VCALENDAR
VERSION:2.0
PRODID:DPCALENDAR
CALSCALE:GREGORIAN
BEGIN:VTIMEZONE
TZID:UTC
X-MICROSOFT-CDO-TZID:0
END:VTIMEZONE
X-WR-TIMEZONE:UTC
BEGIN:VEVENT
DTSTART;VALUE=DATE:20241018
DTEND;VALUE=DATE:20241021
UID:7E4C96F8-6552-4063-8460-7D1A9B4668E8
SUMMARY:Vereinsausflug zum Naturfreundehaus Freibergsee im Allgäu
DTSTAMP:20240715T211914Z
DESCRIPTION:
X-ALT-DESC;FMTTYPE=text/html:
X-ACCESS:1
X-HITS:644
X-URL:
X-COLOR:3366CC
END:VEVENT
END:VCALENDAR