BEGIN:VCALENDAR
VERSION:2.0
PRODID:DPCALENDAR
CALSCALE:GREGORIAN
BEGIN:VTIMEZONE
TZID:UTC
X-MICROSOFT-CDO-TZID:0
END:VTIMEZONE
X-WR-TIMEZONE:UTC
BEGIN:VEVENT
DTSTART;TZID=UTC:20250501T130000
DTEND;TZID=UTC:20250501T160000
UID:385878A1-E41F-49BC-80B5-942E67C0214E
SUMMARY:Ortsgruppenabend im Bootshaus
DTSTAMP:20250303T132346Z
DESCRIPTION:
X-ALT-DESC;FMTTYPE=text/html:
X-ACCESS:1
X-HITS:515
X-URL:
X-COLOR:3366CC
END:VEVENT
END:VCALENDAR